BEGIN:VCALENDAR
VERSION:2.0
PRODID:-//Sabre//Sabre VObject 4.5.8//EN
CALSCALE:GREGORIAN
BEGIN:VEVENT
UID:sabre-vobject-e94cd57b-1aab-483b-9346-4a3f8f917caf
DTSTAMP:20260425T014811Z
SUMMARY:U.S. Army Europe Training Holiday
DESCRIPTION:
X-ALT-DESC:FMTTYPE=text/html:<!DOCTYPE HTML PUBLIC "-//W3C//DTD HTML 3.2//E
 N"><HTML></HTML>
CREATED;TZID=Europe/Berlin:20170913T134520
URL;VALUE=URI:https://ansbach.armymwr.com/calendar/event
DTSTART;TZID=Europe/Berlin:20170901T000000
DTEND;TZID=Europe/Berlin:20170901T235959
SEQUENCE:0
END:VEVENT
BEGIN:VEVENT
UID:sabre-vobject-e4ad02a4-c336-4a1c-9320-d0db86864ac9
DTSTAMP:20260425T014811Z
SUMMARY:U.S. Army Europe Training Holiday
DESCRIPTION:
X-ALT-DESC:FMTTYPE=text/html:<!DOCTYPE HTML PUBLIC "-//W3C//DTD HTML 3.2//E
 N"><HTML></HTML>
CREATED;TZID=Europe/Berlin:20170913T134520
URL;VALUE=URI:https://ansbach.armymwr.com/calendar/event
DTSTART;TZID=Europe/Berlin:20171006T000000
DTEND;TZID=Europe/Berlin:20171006T235959
SEQUENCE:1
END:VEVENT
BEGIN:VEVENT
UID:sabre-vobject-25db008a-25cc-41c1-8dbc-5791a797f2d1
DTSTAMP:20260425T014811Z
SUMMARY:U.S. Army Europe Training Holiday
DESCRIPTION:
X-ALT-DESC:FMTTYPE=text/html:<!DOCTYPE HTML PUBLIC "-//W3C//DTD HTML 3.2//E
 N"><HTML></HTML>
CREATED;TZID=Europe/Berlin:20170913T134520
URL;VALUE=URI:https://ansbach.armymwr.com/calendar/event
DTSTART;TZID=Europe/Berlin:20171124T000000
DTEND;TZID=Europe/Berlin:20171124T235959
SEQUENCE:2
END:VEVENT
BEGIN:VEVENT
UID:sabre-vobject-2efb9665-3dc8-428e-8018-32a7b6391fb3
DTSTAMP:20260425T014811Z
SUMMARY:U.S. Army Europe Training Holiday
DESCRIPTION:
X-ALT-DESC:FMTTYPE=text/html:<!DOCTYPE HTML PUBLIC "-//W3C//DTD HTML 3.2//E
 N"><HTML></HTML>
CREATED;TZID=Europe/Berlin:20170913T134520
URL;VALUE=URI:https://ansbach.armymwr.com/calendar/event
DTSTART;TZID=Europe/Berlin:20180112T000000
DTEND;TZID=Europe/Berlin:20180112T235959
SEQUENCE:3
END:VEVENT
BEGIN:VEVENT
UID:sabre-vobject-23944c94-0a32-4d04-912d-455efdfae644
DTSTAMP:20260425T014811Z
SUMMARY:U.S. Army Europe Training Holiday
DESCRIPTION:
X-ALT-DESC:FMTTYPE=text/html:<!DOCTYPE HTML PUBLIC "-//W3C//DTD HTML 3.2//E
 N"><HTML></HTML>
CREATED;TZID=Europe/Berlin:20170913T134520
URL;VALUE=URI:https://ansbach.armymwr.com/calendar/event
DTSTART;TZID=Europe/Berlin:20180216T000000
DTEND;TZID=Europe/Berlin:20180216T235959
SEQUENCE:4
END:VEVENT
BEGIN:VEVENT
UID:sabre-vobject-67978733-eb34-47a3-9ac6-d69504ce2a44
DTSTAMP:20260425T014811Z
SUMMARY:U.S. Army Europe Training Holiday
DESCRIPTION:
X-ALT-DESC:FMTTYPE=text/html:<!DOCTYPE HTML PUBLIC "-//W3C//DTD HTML 3.2//E
 N"><HTML></HTML>
CREATED;TZID=Europe/Berlin:20170913T134520
URL;VALUE=URI:https://ansbach.armymwr.com/calendar/event
DTSTART;TZID=Europe/Berlin:20180330T000000
DTEND;TZID=Europe/Berlin:20180330T235959
SEQUENCE:5
END:VEVENT
BEGIN:VEVENT
UID:sabre-vobject-f4829d6d-df3e-44ed-be33-4a177cf1ee8e
DTSTAMP:20260425T014811Z
SUMMARY:U.S. Army Europe Training Holiday
DESCRIPTION:
X-ALT-DESC:FMTTYPE=text/html:<!DOCTYPE HTML PUBLIC "-//W3C//DTD HTML 3.2//E
 N"><HTML></HTML>
CREATED;TZID=Europe/Berlin:20170913T134520
URL;VALUE=URI:https://ansbach.armymwr.com/calendar/event
DTSTART;TZID=Europe/Berlin:20180402T000000
DTEND;TZID=Europe/Berlin:20180402T235959
SEQUENCE:6
END:VEVENT
BEGIN:VEVENT
UID:sabre-vobject-6c8e97ab-a552-43f8-85ec-a5c4d48040f7
DTSTAMP:20260425T014811Z
SUMMARY:U.S. Army Europe Training Holiday
DESCRIPTION:
X-ALT-DESC:FMTTYPE=text/html:<!DOCTYPE HTML PUBLIC "-//W3C//DTD HTML 3.2//E
 N"><HTML></HTML>
CREATED;TZID=Europe/Berlin:20170913T134520
URL;VALUE=URI:https://ansbach.armymwr.com/calendar/event
DTSTART;TZID=Europe/Berlin:20180420T000000
DTEND;TZID=Europe/Berlin:20180420T235959
SEQUENCE:7
END:VEVENT
BEGIN:VEVENT
UID:sabre-vobject-ee612b13-1f3e-41f2-ad0e-4f4c16ff084e
DTSTAMP:20260425T014811Z
SUMMARY:U.S. Army Europe Training Holiday
DESCRIPTION:
X-ALT-DESC:FMTTYPE=text/html:<!DOCTYPE HTML PUBLIC "-//W3C//DTD HTML 3.2//E
 N"><HTML></HTML>
CREATED;TZID=Europe/Berlin:20170913T134520
URL;VALUE=URI:https://ansbach.armymwr.com/calendar/event
DTSTART;TZID=Europe/Berlin:20180423T000000
DTEND;TZID=Europe/Berlin:20180423T235959
SEQUENCE:8
END:VEVENT
BEGIN:VEVENT
UID:sabre-vobject-bf0aca3e-84d8-4ec0-b71f-803522ad7645
DTSTAMP:20260425T014811Z
SUMMARY:U.S. Army Europe Training Holiday
DESCRIPTION:
X-ALT-DESC:FMTTYPE=text/html:<!DOCTYPE HTML PUBLIC "-//W3C//DTD HTML 3.2//E
 N"><HTML></HTML>
CREATED;TZID=Europe/Berlin:20170913T134520
URL;VALUE=URI:https://ansbach.armymwr.com/calendar/event
DTSTART;TZID=Europe/Berlin:20180525T000000
DTEND;TZID=Europe/Berlin:20180525T235959
SEQUENCE:9
END:VEVENT
BEGIN:VEVENT
UID:sabre-vobject-849dc27e-c8e9-42d7-bb91-a239196af70e
DTSTAMP:20260425T014811Z
SUMMARY:U.S. Army Europe Training Holiday
DESCRIPTION:
X-ALT-DESC:FMTTYPE=text/html:<!DOCTYPE HTML PUBLIC "-//W3C//DTD HTML 3.2//E
 N"><HTML></HTML>
CREATED;TZID=Europe/Berlin:20170913T134520
URL;VALUE=URI:https://ansbach.armymwr.com/calendar/event
DTSTART;TZID=Europe/Berlin:20180615T000000
DTEND;TZID=Europe/Berlin:20180615T235959
SEQUENCE:10
END:VEVENT
BEGIN:VEVENT
UID:sabre-vobject-1a7f9943-0cf2-48a6-b797-17bdd9b495a8
DTSTAMP:20260425T014811Z
SUMMARY:U.S. Army Europe Training Holiday
DESCRIPTION:
X-ALT-DESC:FMTTYPE=text/html:<!DOCTYPE HTML PUBLIC "-//W3C//DTD HTML 3.2//E
 N"><HTML></HTML>
CREATED;TZID=Europe/Berlin:20170913T134520
URL;VALUE=URI:https://ansbach.armymwr.com/calendar/event
DTSTART;TZID=Europe/Berlin:20180618T000000
DTEND;TZID=Europe/Berlin:20180618T235959
SEQUENCE:11
END:VEVENT
BEGIN:VEVENT
UID:sabre-vobject-5bdde1f1-bd9c-4d58-a350-53a724f6ee74
DTSTAMP:20260425T014811Z
SUMMARY:U.S. Army Europe Training Holiday
DESCRIPTION:
X-ALT-DESC:FMTTYPE=text/html:<!DOCTYPE HTML PUBLIC "-//W3C//DTD HTML 3.2//E
 N"><HTML></HTML>
CREATED;TZID=Europe/Berlin:20170913T134520
URL;VALUE=URI:https://ansbach.armymwr.com/calendar/event
DTSTART;TZID=Europe/Berlin:20180705T000000
DTEND;TZID=Europe/Berlin:20180705T235959
SEQUENCE:12
END:VEVENT
BEGIN:VEVENT
UID:sabre-vobject-43ec01c8-884d-4987-8a3c-3dde90d65656
DTSTAMP:20260425T014811Z
SUMMARY:U.S. Army Europe Training Holiday
DESCRIPTION:
X-ALT-DESC:FMTTYPE=text/html:<!DOCTYPE HTML PUBLIC "-//W3C//DTD HTML 3.2//E
 N"><HTML></HTML>
CREATED;TZID=Europe/Berlin:20170913T134520
URL;VALUE=URI:https://ansbach.armymwr.com/calendar/event
DTSTART;TZID=Europe/Berlin:20180713T000000
DTEND;TZID=Europe/Berlin:20180713T235959
SEQUENCE:13
END:VEVENT
BEGIN:VEVENT
UID:sabre-vobject-9fb6d181-7ff8-408a-bb3d-c67f2f41c48c
DTSTAMP:20260425T014811Z
SUMMARY:U.S. Army Europe Training Holiday
DESCRIPTION:
X-ALT-DESC:FMTTYPE=text/html:<!DOCTYPE HTML PUBLIC "-//W3C//DTD HTML 3.2//E
 N"><HTML></HTML>
CREATED;TZID=Europe/Berlin:20170913T134520
URL;VALUE=URI:https://ansbach.armymwr.com/calendar/event
DTSTART;TZID=Europe/Berlin:20180716T000000
DTEND;TZID=Europe/Berlin:20180716T235959
SEQUENCE:14
END:VEVENT
BEGIN:VEVENT
UID:sabre-vobject-5f7b3fc2-06e4-45e9-8220-0fa9e67df211
DTSTAMP:20260425T014811Z
SUMMARY:U.S. Army Europe Training Holiday
DESCRIPTION:
X-ALT-DESC:FMTTYPE=text/html:<!DOCTYPE HTML PUBLIC "-//W3C//DTD HTML 3.2//E
 N"><HTML></HTML>
CREATED;TZID=Europe/Berlin:20170913T134520
URL;VALUE=URI:https://ansbach.armymwr.com/calendar/event
DTSTART;TZID=Europe/Berlin:20180803T000000
DTEND;TZID=Europe/Berlin:20180803T235959
SEQUENCE:15
END:VEVENT
BEGIN:VEVENT
UID:sabre-vobject-a473af9d-1125-4e6f-8e1c-5aee7543f104
DTSTAMP:20260425T014811Z
SUMMARY:U.S. Army Europe Training Holiday
DESCRIPTION:
X-ALT-DESC:FMTTYPE=text/html:<!DOCTYPE HTML PUBLIC "-//W3C//DTD HTML 3.2//E
 N"><HTML></HTML>
CREATED;TZID=Europe/Berlin:20170913T134520
URL;VALUE=URI:https://ansbach.armymwr.com/calendar/event
DTSTART;TZID=Europe/Berlin:20180806T000000
DTEND;TZID=Europe/Berlin:20180806T235959
SEQUENCE:16
END:VEVENT
BEGIN:VEVENT
UID:sabre-vobject-8756c273-b470-444b-a7f7-75ffbcfcead5
DTSTAMP:20260425T014811Z
SUMMARY:U.S. Army Europe Training Holiday
DESCRIPTION:
X-ALT-DESC:FMTTYPE=text/html:<!DOCTYPE HTML PUBLIC "-//W3C//DTD HTML 3.2//E
 N"><HTML></HTML>
CREATED;TZID=Europe/Berlin:20170913T134520
URL;VALUE=URI:https://ansbach.armymwr.com/calendar/event
DTSTART;TZID=Europe/Berlin:20180831T000000
DTEND;TZID=Europe/Berlin:20180831T235959
SEQUENCE:17
END:VEVENT
BEGIN:VEVENT
UID:sabre-vobject-971d0ee7-b95d-466c-a772-4177b0c745e0
DTSTAMP:20260425T014811Z
SUMMARY:U.S. Army Europe Training Holiday
DESCRIPTION:
X-ALT-DESC:FMTTYPE=text/html:<!DOCTYPE HTML PUBLIC "-//W3C//DTD HTML 3.2//E
 N"><HTML></HTML>
CREATED;TZID=Europe/Berlin:20170913T134520
URL;VALUE=URI:https://ansbach.armymwr.com/calendar/event
DTSTART;TZID=Europe/Berlin:20180102T000000
DTEND;TZID=Europe/Berlin:20180102T235959
SEQUENCE:18
END:VEVENT
END:VCALENDAR
