BEGIN:VCALENDAR
VERSION:2.0
PRODID:-//Sabre//Sabre VObject 4.5.8//EN
CALSCALE:GREGORIAN
BEGIN:VEVENT
UID:sabre-vobject-f014a81e-dd1e-4f9c-8f3e-5e7a76fa81f4
DTSTAMP:20260426T014949Z
SUMMARY:Whit Sunday - German Federal Holiday
DESCRIPTION:
X-ALT-DESC:FMTTYPE=text/html:<!DOCTYPE HTML PUBLIC "-//W3C//DTD HTML 3.2//E
 N"><HTML></HTML>
CREATED;TZID=Europe/Berlin:20170913T134520
URL;VALUE=URI:https://ansbach.armymwr.com/calendar/event
DTSTART;TZID=Europe/Berlin:20180520T000000
DTEND;TZID=Europe/Berlin:20180520T235959
SEQUENCE:0
END:VEVENT
END:VCALENDAR
