BEGIN:VCALENDAR
VERSION:2.0
PRODID:-//Sabre//Sabre VObject 4.5.8//EN
CALSCALE:GREGORIAN
BEGIN:VEVENT
UID:sabre-vobject-3c5e3690-b521-4c00-8445-dfeaaa69abc3
DTSTAMP:20260425T165232Z
SUMMARY:Corpus Christi - German Federal Holiday
DESCRIPTION:
X-ALT-DESC:FMTTYPE=text/html:<!DOCTYPE HTML PUBLIC "-//W3C//DTD HTML 3.2//E
 N"><HTML></HTML>
CREATED;TZID=Europe/Berlin:20170913T134520
URL;VALUE=URI:https://ansbach.armymwr.com/calendar/event
DTSTART;TZID=Europe/Berlin:20180531T000000
DTEND;TZID=Europe/Berlin:20180531T235959
SEQUENCE:0
END:VEVENT
END:VCALENDAR
