BEGIN:VCALENDAR
VERSION:2.0
PRODID:-//Sabre//Sabre VObject 4.5.8//EN
CALSCALE:GREGORIAN
BEGIN:VEVENT
UID:sabre-vobject-ee03b773-b4d4-4178-b32f-01402c77da70
DTSTAMP:20260425T004013Z
SUMMARY:U.S. Labor Day - U.S. Federal Holiday
DESCRIPTION:
X-ALT-DESC:FMTTYPE=text/html:<!DOCTYPE HTML PUBLIC "-//W3C//DTD HTML 3.2//E
 N"><HTML></HTML>
CREATED;TZID=Europe/Berlin:20171031T100451
URL;VALUE=URI:https://ansbach.armymwr.com/calendar/event
DTSTART;TZID=Europe/Berlin:20180903T000000
DTEND;TZID=Europe/Berlin:20180903T235959
SEQUENCE:0
END:VEVENT
END:VCALENDAR
