BEGIN:VCALENDAR
VERSION:2.0
PRODID:-//Sabre//Sabre VObject 4.5.8//EN
CALSCALE:GREGORIAN
BEGIN:VEVENT
UID:sabre-vobject-6217a591-053a-4ea4-9fb5-4529315a6c6b
DTSTAMP:20260425T103729Z
SUMMARY:Intramural Ultimate Frisbee League
DESCRIPTION:Don&#39\;t think Frisbee is a sport? Come find out.\n
X-ALT-DESC:FMTTYPE=text/html:<!DOCTYPE HTML PUBLIC "-//W3C//DTD HTML 3.2//E
 N"><HTML><p>Don&#39\;t think Frisbee is a sport? Come find out.</p>\n</HTM
 L>
CREATED;TZID=Europe/Berlin:20180420T152531
URL;VALUE=URI:https://ansbach.armymwr.com/calendar/event
DTSTART;TZID=Europe/Berlin:20180507T063000
DTEND;TZID=Europe/Berlin:20180507T073000
SEQUENCE:0
END:VEVENT
BEGIN:VEVENT
UID:sabre-vobject-203783b9-7d10-4cd0-ad38-116d443fdf0c
DTSTAMP:20260425T103729Z
SUMMARY:Intramural Ultimate Frisbee League
DESCRIPTION:Don&#39\;t think Frisbee is a sport? Come find out.\n
X-ALT-DESC:FMTTYPE=text/html:<!DOCTYPE HTML PUBLIC "-//W3C//DTD HTML 3.2//E
 N"><HTML><p>Don&#39\;t think Frisbee is a sport? Come find out.</p>\n</HTM
 L>
CREATED;TZID=Europe/Berlin:20180420T152531
URL;VALUE=URI:https://ansbach.armymwr.com/calendar/event
DTSTART;TZID=Europe/Berlin:20180509T153000
DTEND;TZID=Europe/Berlin:20180509T163000
SEQUENCE:1
END:VEVENT
END:VCALENDAR
