BEGIN:VCALENDAR
VERSION:2.0
PRODID:-//Sabre//Sabre VObject 4.5.8//EN
CALSCALE:GREGORIAN
BEGIN:VEVENT
UID:sabre-vobject-6a76b04b-298d-40b8-ae90-2585c21c1822
DTSTAMP:20260423T053305Z
SUMMARY:2018 USAG Ansbach Unit Level Flag Football League
DESCRIPTION:&quot\;Come get muddy\, it is Flag Football time.&quot\;\n
X-ALT-DESC:FMTTYPE=text/html:<!DOCTYPE HTML PUBLIC "-//W3C//DTD HTML 3.2//E
 N"><HTML><p>&quot\;Come get muddy\, it is Flag Football time.&quot\;</p>\n
 </HTML>
CREATED;TZID=Europe/Berlin:20180928T154318
URL;VALUE=URI:https://ansbach.armymwr.com/calendar/event
DTSTART;TZID=Europe/Berlin:20180813T173000
DTEND;TZID=Europe/Berlin:20180813T190000
SEQUENCE:0
END:VEVENT
BEGIN:VEVENT
UID:sabre-vobject-0dec11c4-2144-4b10-9680-253c0814add1
DTSTAMP:20260423T053305Z
SUMMARY:2018 USAG Ansbach Unit Level Flag Football League
DESCRIPTION:&quot\;Come get muddy\, it is Flag Football time.&quot\;\n
X-ALT-DESC:FMTTYPE=text/html:<!DOCTYPE HTML PUBLIC "-//W3C//DTD HTML 3.2//E
 N"><HTML><p>&quot\;Come get muddy\, it is Flag Football time.&quot\;</p>\n
 </HTML>
CREATED;TZID=Europe/Berlin:20180928T154318
URL;VALUE=URI:https://ansbach.armymwr.com/calendar/event
DTSTART;TZID=Europe/Berlin:20180815T173000
DTEND;TZID=Europe/Berlin:20180815T190500
SEQUENCE:1
END:VEVENT
END:VCALENDAR
