BEGIN:VCALENDAR
VERSION:2.0
PRODID:-//Sabre//Sabre VObject 4.5.8//EN
CALSCALE:GREGORIAN
BEGIN:VEVENT
UID:sabre-vobject-5331c2a7-80ed-44bb-95c6-6ccda7f358a2
DTSTAMP:20260420T103753Z
SUMMARY:Table Tennis Tournament 
DESCRIPTION:Are you a Table Tennis pro? Put your skills to the test at the 
 Katterbach Recreation Center Annex table tennis tournament.\n
X-ALT-DESC:FMTTYPE=text/html:<!DOCTYPE HTML PUBLIC "-//W3C//DTD HTML 3.2//E
 N"><HTML><p>Are you a Table Tennis pro? Put your skills to the test at the
  Katterbach Recreation Center Annex table tennis tournament.</p>\n</HTML>
CREATED;TZID=Europe/Berlin:20181123T154908
URL;VALUE=URI:https://ansbach.armymwr.com/calendar/event
DTSTART;TZID=Europe/Berlin:20181220T180000
DTEND;TZID=Europe/Berlin:20181220T210000
SEQUENCE:0
END:VEVENT
BEGIN:VEVENT
UID:sabre-vobject-d4e012ae-ea54-4f7c-af72-0e3422a5a54c
DTSTAMP:20260420T103753Z
SUMMARY:Table Tennis Tournament 
DESCRIPTION:Are you a Table Tennis pro? Put your skills to the test at the 
 Katterbach Recreation Center Annex table tennis tournament.\n
X-ALT-DESC:FMTTYPE=text/html:<!DOCTYPE HTML PUBLIC "-//W3C//DTD HTML 3.2//E
 N"><HTML><p>Are you a Table Tennis pro? Put your skills to the test at the
  Katterbach Recreation Center Annex table tennis tournament.</p>\n</HTML>
CREATED;TZID=Europe/Berlin:20181123T154908
URL;VALUE=URI:https://ansbach.armymwr.com/calendar/event
DTSTART;TZID=Europe/Berlin:20181228T180000
DTEND;TZID=Europe/Berlin:20181228T210000
SEQUENCE:1
END:VEVENT
END:VCALENDAR
