BEGIN:VCALENDAR
VERSION:2.0
PRODID:-//Sabre//Sabre VObject 4.5.8//EN
CALSCALE:GREGORIAN
BEGIN:VEVENT
UID:sabre-vobject-95db0d74-6bcb-46b9-83bb-a0637e2bc349
DTSTAMP:20260426T012926Z
SUMMARY:Family and Finance  
DESCRIPTION:Learn to talk about finances with your spouse.\n
X-ALT-DESC:FMTTYPE=text/html:<!DOCTYPE HTML PUBLIC "-//W3C//DTD HTML 3.2//E
 N"><HTML><p>Learn to talk about finances with your spouse.</p>\n</HTML>
CREATED;TZID=Europe/Berlin:20180307T134533
URL;VALUE=URI:https://ansbach.armymwr.com/calendar/event
DTSTART;TZID=Europe/Berlin:20180427T150000
DTEND;TZID=Europe/Berlin:20180427T160000
SEQUENCE:0
END:VEVENT
END:VCALENDAR
