BEGIN:VCALENDAR
VERSION:2.0
PRODID:-//Sabre//Sabre VObject 4.5.8//EN
CALSCALE:GREGORIAN
BEGIN:VEVENT
UID:sabre-vobject-7603df7c-94ed-479d-920e-7f359dcf2f83
DTSTAMP:20260426T012925Z
SUMMARY:Military 101 for Spouses - Part 1 
DESCRIPTION:Join the Army Family Team Building Program and learn about the 
 military.\n
X-ALT-DESC:FMTTYPE=text/html:<!DOCTYPE HTML PUBLIC "-//W3C//DTD HTML 3.2//E
 N"><HTML><p>Join the Army Family Team Building Program and learn about the
  military.</p>\n</HTML>
CREATED;TZID=Europe/Berlin:20180402T101040
URL;VALUE=URI:https://ansbach.armymwr.com/calendar/event
DTSTART;TZID=Europe/Berlin:20180427T124500
DTEND;TZID=Europe/Berlin:20180427T144500
SEQUENCE:0
END:VEVENT
END:VCALENDAR
