BEGIN:VCALENDAR
VERSION:2.0
PRODID:-//Sabre//Sabre VObject 4.5.8//EN
CALSCALE:GREGORIAN
BEGIN:VEVENT
UID:sabre-vobject-7a2aadd2-e25a-4ae6-b266-b54d28e7aec3
DTSTAMP:20260426T025940Z
SUMMARY:Child Abuse Prevention    
DESCRIPTION:Child Abuse Prevention Class.\n
X-ALT-DESC:FMTTYPE=text/html:<!DOCTYPE HTML PUBLIC "-//W3C//DTD HTML 3.2//E
 N"><HTML><p>Child Abuse Prevention Class.</p>\n</HTML>
CREATED;TZID=Europe/Berlin:20180322T131443
URL;VALUE=URI:https://ansbach.armymwr.com/calendar/event
DTSTART;TZID=Europe/Berlin:20180508T113000
DTEND;TZID=Europe/Berlin:20180508T130000
SEQUENCE:0
END:VEVENT
END:VCALENDAR
