BEGIN:VCALENDAR
VERSION:2.0
PRODID:-//Sabre//Sabre VObject 4.5.8//EN
CALSCALE:GREGORIAN
BEGIN:VEVENT
UID:sabre-vobject-42fe3418-4857-4fa8-867f-fc76673bfd7b
DTSTAMP:20260425T233433Z
SUMMARY:Emergency Placement Care Orientation    
DESCRIPTION:Emergency Placement Care Orientation\n
X-ALT-DESC:FMTTYPE=text/html:<!DOCTYPE HTML PUBLIC "-//W3C//DTD HTML 3.2//E
 N"><HTML><p>Emergency Placement Care Orientation</p>\n</HTML>
CREATED;TZID=Europe/Berlin:20180322T131639
URL;VALUE=URI:https://ansbach.armymwr.com/calendar/event
DTSTART;TZID=Europe/Berlin:20180509T160000
DTEND;TZID=Europe/Berlin:20180509T170000
SEQUENCE:0
END:VEVENT
END:VCALENDAR
