BEGIN:VCALENDAR
VERSION:2.0
PRODID:-//Sabre//Sabre VObject 4.5.8//EN
CALSCALE:GREGORIAN
BEGIN:VEVENT
UID:sabre-vobject-0db35f9c-ef66-4255-adbc-5480a8f3ad0b
DTSTAMP:20260426T023929Z
SUMMARY:Newborn Care     
DESCRIPTION:Newborn care class\n
X-ALT-DESC:FMTTYPE=text/html:<!DOCTYPE HTML PUBLIC "-//W3C//DTD HTML 3.2//E
 N"><HTML><p>Newborn care class</p>\n</HTML>
CREATED;TZID=Europe/Berlin:20180322T141559
URL;VALUE=URI:https://ansbach.armymwr.com/calendar/event
DTSTART;TZID=Europe/Berlin:20180618T100000
DTEND;TZID=Europe/Berlin:20180618T120000
SEQUENCE:0
END:VEVENT
END:VCALENDAR
