BEGIN:VCALENDAR
VERSION:2.0
PRODID:-//Sabre//Sabre VObject 4.5.8//EN
CALSCALE:GREGORIAN
BEGIN:VEVENT
UID:sabre-vobject-c9530257-eeef-40ba-93da-2c0149770a7d
DTSTAMP:20260425T031011Z
SUMMARY:Germany by Rail    
DESCRIPTION:Train trip to Nuremburg.\n
X-ALT-DESC:FMTTYPE=text/html:<!DOCTYPE HTML PUBLIC "-//W3C//DTD HTML 3.2//E
 N"><HTML><p>Train trip to Nuremburg.</p>\n</HTML>
CREATED;TZID=Europe/Berlin:20180322T143816
URL;VALUE=URI:https://ansbach.armymwr.com/calendar/event
DTSTART;TZID=Europe/Berlin:20180719T093000
DTEND;TZID=Europe/Berlin:20180719T163000
SEQUENCE:0
END:VEVENT
END:VCALENDAR
