BEGIN:VCALENDAR
VERSION:2.0
PRODID:-//Sabre//Sabre VObject 4.5.8//EN
CALSCALE:GREGORIAN
BEGIN:VEVENT
UID:sabre-vobject-10d28405-0d99-42e9-8cdd-6326f55cad5d
DTSTAMP:20260425T000807Z
SUMMARY:Germany by Rail  
DESCRIPTION:Train trip to Nuremburg.\n
X-ALT-DESC:FMTTYPE=text/html:<!DOCTYPE HTML PUBLIC "-//W3C//DTD HTML 3.2//E
 N"><HTML><p>Train trip to Nuremburg.</p>\n</HTML>
CREATED;TZID=Europe/Berlin:20180322T151338
URL;VALUE=URI:https://ansbach.armymwr.com/calendar/event
DTSTART;TZID=Europe/Berlin:20180816T093000
DTEND;TZID=Europe/Berlin:20180816T163000
SEQUENCE:0
END:VEVENT
END:VCALENDAR
