BEGIN:VCALENDAR
VERSION:2.0
PRODID:-//Sabre//Sabre VObject 4.5.8//EN
CALSCALE:GREGORIAN
BEGIN:VEVENT
UID:sabre-vobject-f30f14cc-3c47-4322-b50d-831e270a787d
DTSTAMP:20260426T040810Z
SUMMARY:Zumba
DESCRIPTION:Get your Zumba on with Violetta!\n
X-ALT-DESC:FMTTYPE=text/html:<!DOCTYPE HTML PUBLIC "-//W3C//DTD HTML 3.2//E
 N"><HTML><p>Get your Zumba on with Violetta!</p>\n</HTML>
CREATED;TZID=Europe/Berlin:20180327T150246
URL;VALUE=URI:https://ansbach.armymwr.com/calendar/event
DTSTART;TZID=Europe/Berlin:20180403T090000
DTEND;TZID=Europe/Berlin:20180403T100000
SEQUENCE:0
END:VEVENT
BEGIN:VEVENT
UID:sabre-vobject-570d8919-1d60-4924-a14b-2abdcb6e4106
DTSTAMP:20260426T040810Z
SUMMARY:Zumba
DESCRIPTION:Get your Zumba on with Violetta!\n
X-ALT-DESC:FMTTYPE=text/html:<!DOCTYPE HTML PUBLIC "-//W3C//DTD HTML 3.2//E
 N"><HTML><p>Get your Zumba on with Violetta!</p>\n</HTML>
CREATED;TZID=Europe/Berlin:20180327T150246
URL;VALUE=URI:https://ansbach.armymwr.com/calendar/event
DTSTART;TZID=Europe/Berlin:20180405T093000
DTEND;TZID=Europe/Berlin:20180405T103000
SEQUENCE:1
END:VEVENT
END:VCALENDAR
