BEGIN:VCALENDAR
VERSION:2.0
PRODID:-//Sabre//Sabre VObject 4.5.8//EN
CALSCALE:GREGORIAN
BEGIN:VEVENT
UID:sabre-vobject-7cb77a8c-2228-4527-a874-c80a5b70b2f9
DTSTAMP:20260425T165232Z
SUMMARY:Abdominal/Cardio
DESCRIPTION:Focus on core work and cardio with Ana\n
X-ALT-DESC:FMTTYPE=text/html:<!DOCTYPE HTML PUBLIC "-//W3C//DTD HTML 3.2//E
 N"><HTML><p>Focus on core work and cardio with Ana</p>\n</HTML>
CREATED;TZID=Europe/Berlin:20180426T112350
URL;VALUE=URI:https://ansbach.armymwr.com/calendar/event
DTSTART;TZID=Europe/Berlin:20180501T191500
DTEND;TZID=Europe/Berlin:20180501T201500
SEQUENCE:0
END:VEVENT
BEGIN:VEVENT
UID:sabre-vobject-d686096e-b6eb-442e-9fd9-561df62f0aec
DTSTAMP:20260425T165232Z
SUMMARY:Abdominal/Cardio
DESCRIPTION:Focus on core work and cardio with Ana\n
X-ALT-DESC:FMTTYPE=text/html:<!DOCTYPE HTML PUBLIC "-//W3C//DTD HTML 3.2//E
 N"><HTML><p>Focus on core work and cardio with Ana</p>\n</HTML>
CREATED;TZID=Europe/Berlin:20180426T112350
URL;VALUE=URI:https://ansbach.armymwr.com/calendar/event
DTSTART;TZID=Europe/Berlin:20180503T191500
DTEND;TZID=Europe/Berlin:20180503T201500
SEQUENCE:1
END:VEVENT
END:VCALENDAR
