BEGIN:VCALENDAR
VERSION:2.0
PRODID:-//Sabre//Sabre VObject 4.5.8//EN
CALSCALE:GREGORIAN
BEGIN:VEVENT
UID:sabre-vobject-e016cda7-c797-479e-b077-a979ae8bc900
DTSTAMP:20260425T165413Z
SUMMARY:10 Miler Qualification Race
DESCRIPTION:The fastest 6 Army male female qualifiers will represent USAREU
 R in the 2018 Army 10 Miler.\n
X-ALT-DESC:FMTTYPE=text/html:<!DOCTYPE HTML PUBLIC "-//W3C//DTD HTML 3.2//E
 N"><HTML><p>The fastest 6 Army male female qualifiers will represent USARE
 UR in the 2018 Army 10 Miler.</p>\n</HTML>
CREATED;TZID=Europe/Berlin:20180508T132456
URL;VALUE=URI:https://ansbach.armymwr.com/calendar/event
DTSTART;TZID=Europe/Berlin:20180623T060000
DTEND;TZID=Europe/Berlin:20180623T070000
SEQUENCE:0
END:VEVENT
END:VCALENDAR
