BEGIN:VCALENDAR
VERSION:2.0
PRODID:-//Sabre//Sabre VObject 4.5.8//EN
CALSCALE:GREGORIAN
BEGIN:VEVENT
UID:sabre-vobject-718d0fa3-0669-4c39-ae98-37f39bd03ff0
DTSTAMP:20260425T233412Z
SUMMARY:DoDEA - Early Release Day
DESCRIPTION:
X-ALT-DESC:FMTTYPE=text/html:<!DOCTYPE HTML PUBLIC "-//W3C//DTD HTML 3.2//E
 N"><HTML></HTML>
CREATED;TZID=Europe/Berlin:20180524T153810
URL;VALUE=URI:https://ansbach.armymwr.com/calendar/event
DTSTART;TZID=Europe/Berlin:20180525T000000
DTEND;TZID=Europe/Berlin:20180525T235959
SEQUENCE:0
END:VEVENT
END:VCALENDAR
