BEGIN:VCALENDAR
VERSION:2.0
PRODID:-//Sabre//Sabre VObject 4.5.8//EN
CALSCALE:GREGORIAN
BEGIN:VEVENT
UID:sabre-vobject-e2e81160-1582-47e8-8020-eeacd3508fe2
DTSTAMP:20260425T165232Z
SUMMARY:Auto Detail Special
DESCRIPTION:Book an appointment now...\n
X-ALT-DESC:FMTTYPE=text/html:<!DOCTYPE HTML PUBLIC "-//W3C//DTD HTML 3.2//E
 N"><HTML><p>Book an appointment now...</p>\n</HTML>
CREATED;TZID=Europe/Berlin:20180525T155528
URL;VALUE=URI:https://ansbach.armymwr.com/calendar/event
DTSTART;TZID=Europe/Berlin:20180603T000000
DTEND;TZID=Europe/Berlin:20180603T235959
SEQUENCE:0
END:VEVENT
END:VCALENDAR
