BEGIN:VCALENDAR
VERSION:2.0
PRODID:-//Sabre//Sabre VObject 4.5.8//EN
CALSCALE:GREGORIAN
BEGIN:VEVENT
UID:sabre-vobject-82640e47-a3ae-4ee4-add2-1c6cf5cda099
DTSTAMP:20260425T000900Z
SUMMARY:Camp\, Paddle\, and Bike!
DESCRIPTION:Join ODR for a fun filled conoeing\, biking\, and camping trip 
 around the Altm&uuml\;hlsee!\n
X-ALT-DESC:FMTTYPE=text/html:<!DOCTYPE HTML PUBLIC "-//W3C//DTD HTML 3.2//E
 N"><HTML><p>Join ODR for a fun filled conoeing\, biking\, and camping trip
  around the Altm&uuml\;hlsee!</p>\n</HTML>
CREATED;TZID=Europe/Berlin:20180621T165415
URL;VALUE=URI:https://ansbach.armymwr.com/calendar/event
DTSTART;TZID=Europe/Berlin:20180728T090000
DTEND;TZID=Europe/Berlin:20180729T180000
SEQUENCE:0
END:VEVENT
END:VCALENDAR
