BEGIN:VCALENDAR
VERSION:2.0
PRODID:-//Sabre//Sabre VObject 4.5.8//EN
CALSCALE:GREGORIAN
BEGIN:VEVENT
UID:sabre-vobject-778502ea-e4ff-48db-a448-2e32940e59aa
DTSTAMP:20260424T210434Z
SUMMARY:Adventure Workshop: Zipline Park & Arrow Tag
DESCRIPTION:Spend the day in Betzenstein at the Adventure Workshop.\n
X-ALT-DESC:FMTTYPE=text/html:<!DOCTYPE HTML PUBLIC "-//W3C//DTD HTML 3.2//E
 N"><HTML><p>Spend the day in Betzenstein at the Adventure Workshop.</p>\n<
 /HTML>
CREATED;TZID=Europe/Berlin:20180625T142904
URL;VALUE=URI:https://ansbach.armymwr.com/calendar/event
DTSTART;TZID=Europe/Berlin:20180825T060000
DTEND;TZID=Europe/Berlin:20180825T210000
SEQUENCE:0
END:VEVENT
END:VCALENDAR
