BEGIN:VCALENDAR
VERSION:2.0
PRODID:-//Sabre//Sabre VObject 4.5.8//EN
CALSCALE:GREGORIAN
BEGIN:VEVENT
UID:sabre-vobject-becae1d4-a4c4-4809-8fec-a92cb2b34231
DTSTAMP:20260423T232100Z
SUMMARY:Prague & The Bone Church
DESCRIPTION:The Sedlec Ossuary is known as &ldquo\;The Church of Bones&rdqu
 o\; and is comprised of 40\,000 human skeletons!\n
X-ALT-DESC:FMTTYPE=text/html:<!DOCTYPE HTML PUBLIC "-//W3C//DTD HTML 3.2//E
 N"><HTML><p>The Sedlec Ossuary is known as &ldquo\;The Church of Bones&rdq
 uo\; and is comprised of 40\,000 human skeletons!</p>\n</HTML>
CREATED;TZID=Europe/Berlin:20180625T162517
URL;VALUE=URI:https://ansbach.armymwr.com/calendar/event
DTSTART;TZID=Europe/Berlin:20180915T030000
DTEND;TZID=Europe/Berlin:20180915T113000
SEQUENCE:0
END:VEVENT
END:VCALENDAR
