BEGIN:VCALENDAR
VERSION:2.0
PRODID:-//Sabre//Sabre VObject 4.5.8//EN
CALSCALE:GREGORIAN
BEGIN:VEVENT
UID:sabre-vobject-215d78df-d85b-46fe-827a-d6d2aab81dad
DTSTAMP:20260423T160735Z
SUMMARY:Oktoberfest in Munich
DESCRIPTION:Let us do the driving and take you to the world renowned Oktobe
 rfest!\n
X-ALT-DESC:FMTTYPE=text/html:<!DOCTYPE HTML PUBLIC "-//W3C//DTD HTML 3.2//E
 N"><HTML><p>Let us do the driving and take you to the world renowned Oktob
 erfest!</p>\n</HTML>
CREATED;TZID=Europe/Berlin:20180917T133439
URL;VALUE=URI:https://ansbach.armymwr.com/calendar/event
DTSTART;TZID=Europe/Berlin:20180922T103000
DTEND;TZID=Europe/Berlin:20180923T010000
SEQUENCE:0
END:VEVENT
END:VCALENDAR
