BEGIN:VCALENDAR
VERSION:2.0
PRODID:-//Sabre//Sabre VObject 4.5.8//EN
CALSCALE:GREGORIAN
BEGIN:VEVENT
UID:sabre-vobject-487b3cc6-c558-44c4-9452-320b09e60e3c
DTSTAMP:20260425T031024Z
SUMMARY:Crafternoon
DESCRIPTION:Family + Crafting = Fun!!&nbsp\;\n
X-ALT-DESC:FMTTYPE=text/html:<!DOCTYPE HTML PUBLIC "-//W3C//DTD HTML 3.2//E
 N"><HTML><p>Family + Crafting = Fun!!&nbsp\;</p>\n</HTML>
CREATED;TZID=Europe/Berlin:20180710T140933
URL;VALUE=URI:https://ansbach.armymwr.com/calendar/event
DTSTART;TZID=Europe/Berlin:20180714T120000
DTEND;TZID=Europe/Berlin:20180714T160000
SEQUENCE:0
END:VEVENT
END:VCALENDAR
