BEGIN:VCALENDAR
VERSION:2.0
PRODID:-//Sabre//Sabre VObject 4.5.8//EN
CALSCALE:GREGORIAN
BEGIN:VEVENT
UID:sabre-vobject-8f0991a7-178e-46d3-a795-d2d143a49892
DTSTAMP:20260423T202800Z
SUMMARY:Wiggles and Giggles Playgroup   
DESCRIPTION:Children&#39\;s playgroup.\n
X-ALT-DESC:FMTTYPE=text/html:<!DOCTYPE HTML PUBLIC "-//W3C//DTD HTML 3.2//E
 N"><HTML><p>Children&#39\;s playgroup.</p>\n</HTML>
CREATED;TZID=Europe/Berlin:20180711T100938
URL;VALUE=URI:https://ansbach.armymwr.com/calendar/event
DTSTART;TZID=Europe/Berlin:20180920T103000
DTEND;TZID=Europe/Berlin:20180920T120000
SEQUENCE:0
END:VEVENT
END:VCALENDAR
