BEGIN:VCALENDAR
VERSION:2.0
PRODID:-//Sabre//Sabre VObject 4.5.8//EN
CALSCALE:GREGORIAN
BEGIN:VEVENT
UID:sabre-vobject-2762d360-5f15-4591-af52-77e090f4e242
DTSTAMP:20260425T121143Z
SUMMARY:Ansbach Community Showcase 
DESCRIPTION:Discover what the best hometown in Europe has to offer!\n
X-ALT-DESC:FMTTYPE=text/html:<!DOCTYPE HTML PUBLIC "-//W3C//DTD HTML 3.2//E
 N"><HTML><p>Discover what the best hometown in Europe has to offer!</p>\n<
 /HTML>
CREATED;TZID=Europe/Berlin:20180814T133715
URL;VALUE=URI:https://ansbach.armymwr.com/calendar/event
DTSTART;TZID=Europe/Berlin:20180825T090000
DTEND;TZID=Europe/Berlin:20180825T140000
SEQUENCE:0
END:VEVENT
END:VCALENDAR
