BEGIN:VCALENDAR
VERSION:2.0
PRODID:-//Sabre//Sabre VObject 4.5.8//EN
CALSCALE:GREGORIAN
BEGIN:VEVENT
UID:sabre-vobject-f64683a8-7e5b-45df-8599-2d0b148fc50d
DTSTAMP:20260423T143843Z
SUMMARY:Breastfeeding Support Group    
DESCRIPTION:Breastfeeding support.\n
X-ALT-DESC:FMTTYPE=text/html:<!DOCTYPE HTML PUBLIC "-//W3C//DTD HTML 3.2//E
 N"><HTML><p>Breastfeeding support.</p>\n</HTML>
CREATED;TZID=Europe/Berlin:20180719T110452
URL;VALUE=URI:https://ansbach.armymwr.com/calendar/event
DTSTART;TZID=Europe/Berlin:20180926T103000
DTEND;TZID=Europe/Berlin:20180926T120000
SEQUENCE:0
END:VEVENT
END:VCALENDAR
