BEGIN:VCALENDAR
VERSION:2.0
PRODID:-//Sabre//Sabre VObject 4.5.8//EN
CALSCALE:GREGORIAN
BEGIN:VEVENT
UID:sabre-vobject-857f659c-d4f9-409c-a5d4-a1037a754584
DTSTAMP:20260424T210433Z
SUMMARY:Host Nation Orientation-Two Day Seminar       
DESCRIPTION:for a successful tour of duty in Germany . . .\n
X-ALT-DESC:FMTTYPE=text/html:<!DOCTYPE HTML PUBLIC "-//W3C//DTD HTML 3.2//E
 N"><HTML><p><span calibri="" style="font-size:11.0pt\;font-family:">for a 
 successful tour of duty in Germany</span> . . .</p>\n</HTML>
CREATED;TZID=Europe/Berlin:20180718T114557
URL;VALUE=URI:https://ansbach.armymwr.com/calendar/event
DTSTART;TZID=Europe/Berlin:20180906T093000
DTEND;TZID=Europe/Berlin:20180906T150000
SEQUENCE:0
END:VEVENT
END:VCALENDAR
