BEGIN:VCALENDAR
VERSION:2.0
PRODID:-//Sabre//Sabre VObject 4.5.8//EN
CALSCALE:GREGORIAN
BEGIN:VEVENT
UID:sabre-vobject-d8bb304c-a83e-4ba1-ae8e-ce7d302f1830
DTSTAMP:20260424T034113Z
SUMMARY:Basic German Class       
DESCRIPTION:Basic German Class\n
X-ALT-DESC:FMTTYPE=text/html:<!DOCTYPE HTML PUBLIC "-//W3C//DTD HTML 3.2//E
 N"><HTML><p>Basic German Class</p>\n</HTML>
CREATED;TZID=Europe/Berlin:20180718T115106
URL;VALUE=URI:https://ansbach.armymwr.com/calendar/event
DTSTART;TZID=Europe/Berlin:20180911T113000
DTEND;TZID=Europe/Berlin:20180911T123000
SEQUENCE:0
END:VEVENT
END:VCALENDAR
