BEGIN:VCALENDAR
VERSION:2.0
PRODID:-//Sabre//Sabre VObject 4.5.8//EN
CALSCALE:GREGORIAN
BEGIN:VEVENT
UID:sabre-vobject-c772d372-a9b9-40e5-95e6-18fd0bdb8210
DTSTAMP:20260423T232103Z
SUMMARY:Labor and Delivery      
DESCRIPTION:Labor and delivery class\n
X-ALT-DESC:FMTTYPE=text/html:<!DOCTYPE HTML PUBLIC "-//W3C//DTD HTML 3.2//E
 N"><HTML><p>Labor and delivery class</p>\n</HTML>
CREATED;TZID=Europe/Berlin:20180718T131724
URL;VALUE=URI:https://ansbach.armymwr.com/calendar/event
DTSTART;TZID=Europe/Berlin:20180914T080000
DTEND;TZID=Europe/Berlin:20180914T100000
SEQUENCE:0
END:VEVENT
END:VCALENDAR
