BEGIN:VCALENDAR
VERSION:2.0
PRODID:-//Sabre//Sabre VObject 4.5.8//EN
CALSCALE:GREGORIAN
BEGIN:VEVENT
UID:sabre-vobject-50b0eeb5-e744-4c1d-8c32-73aaa073e2ac
DTSTAMP:20260423T232057Z
SUMMARY:Interview Techniques      
DESCRIPTION:Interview class\n
X-ALT-DESC:FMTTYPE=text/html:<!DOCTYPE HTML PUBLIC "-//W3C//DTD HTML 3.2//E
 N"><HTML><p>Interview class</p>\n</HTML>
CREATED;TZID=Europe/Berlin:20180718T132327
URL;VALUE=URI:https://ansbach.armymwr.com/calendar/event
DTSTART;TZID=Europe/Berlin:20180917T090000
DTEND;TZID=Europe/Berlin:20180917T103000
SEQUENCE:0
END:VEVENT
END:VCALENDAR
