BEGIN:VCALENDAR
VERSION:2.0
PRODID:-//Sabre//Sabre VObject 4.5.8//EN
CALSCALE:GREGORIAN
BEGIN:VEVENT
UID:sabre-vobject-2329e8ae-c947-4400-9499-6c58dac5de7f
DTSTAMP:20260423T053307Z
SUMMARY:USA Jobs Workshop      
DESCRIPTION:USA Jobs Workshop\n
X-ALT-DESC:FMTTYPE=text/html:<!DOCTYPE HTML PUBLIC "-//W3C//DTD HTML 3.2//E
 N"><HTML><p>USA Jobs Workshop</p>\n</HTML>
CREATED;TZID=Europe/Berlin:20180718T142539
URL;VALUE=URI:https://ansbach.armymwr.com/calendar/event
DTSTART;TZID=Europe/Berlin:20181009T090000
DTEND;TZID=Europe/Berlin:20181009T103000
SEQUENCE:0
END:VEVENT
END:VCALENDAR
