BEGIN:VCALENDAR
VERSION:2.0
PRODID:-//Sabre//Sabre VObject 4.5.8//EN
CALSCALE:GREGORIAN
BEGIN:VEVENT
UID:sabre-vobject-d9c9a68e-3085-443f-bc39-ab305c737d4a
DTSTAMP:20260423T053306Z
SUMMARY:Intermediate German Class      
DESCRIPTION:Mid-level German Class\n
X-ALT-DESC:FMTTYPE=text/html:<!DOCTYPE HTML PUBLIC "-//W3C//DTD HTML 3.2//E
 N"><HTML><p>Mid-level German Class</p>\n</HTML>
CREATED;TZID=Europe/Berlin:20180718T152347
URL;VALUE=URI:https://ansbach.armymwr.com/calendar/event
DTSTART;TZID=Europe/Berlin:20181010T113000
DTEND;TZID=Europe/Berlin:20181010T123000
SEQUENCE:0
END:VEVENT
END:VCALENDAR
