BEGIN:VCALENDAR
VERSION:2.0
PRODID:-//Sabre//Sabre VObject 4.5.8//EN
CALSCALE:GREGORIAN
BEGIN:VEVENT
UID:sabre-vobject-bc47ba10-0a20-4030-8460-7b4b3352a4cb
DTSTAMP:20260422T222012Z
SUMMARY:Family and Finance       
DESCRIPTION:Learn to talk about finances with your spouse.\n
X-ALT-DESC:FMTTYPE=text/html:<!DOCTYPE HTML PUBLIC "-//W3C//DTD HTML 3.2//E
 N"><HTML><p>Learn to talk about finances with your spouse.</p>\n</HTML>
CREATED;TZID=Europe/Berlin:20180718T154814
URL;VALUE=URI:https://ansbach.armymwr.com/calendar/event
DTSTART;TZID=Europe/Berlin:20181026T150000
DTEND;TZID=Europe/Berlin:20181026T160000
SEQUENCE:0
END:VEVENT
END:VCALENDAR
