BEGIN:VCALENDAR
VERSION:2.0
PRODID:-//Sabre//Sabre VObject 4.5.8//EN
CALSCALE:GREGORIAN
BEGIN:VEVENT
UID:sabre-vobject-ab8d6645-6e84-4c7a-8f12-b5a9466699de
DTSTAMP:20260422T070610Z
SUMMARY:Breastfeeding Support Group
DESCRIPTION:Breastfeeding support.\n
X-ALT-DESC:FMTTYPE=text/html:<!DOCTYPE HTML PUBLIC "-//W3C//DTD HTML 3.2//E
 N"><HTML><p>Breastfeeding support.</p>\n</HTML>
CREATED;TZID=Europe/Berlin:20180719T110603
URL;VALUE=URI:https://ansbach.armymwr.com/calendar/event
DTSTART;TZID=Europe/Berlin:20181031T103000
DTEND;TZID=Europe/Berlin:20181031T120000
SEQUENCE:0
END:VEVENT
END:VCALENDAR
