BEGIN:VCALENDAR
VERSION:2.0
PRODID:-//Sabre//Sabre VObject 4.5.8//EN
CALSCALE:GREGORIAN
BEGIN:VEVENT
UID:sabre-vobject-8ef67f5c-5c4b-4170-bdb2-ef2b1375da55
DTSTAMP:20260424T161231Z
SUMMARY:Auditions - Seussical Kids 
DESCRIPTION:Be a part of this fantastical\, magical extravaganza based on t
 he works of Dr. Seuss...\n
X-ALT-DESC:FMTTYPE=text/html:<!DOCTYPE HTML PUBLIC "-//W3C//DTD HTML 3.2//E
 N"><HTML><p>Be a part of this fantastical\, magical extravaganza based on 
 the works of Dr. Seuss...</p>\n</HTML>
CREATED;TZID=Europe/Berlin:20180910T093758
URL;VALUE=URI:https://ansbach.armymwr.com/calendar/event
DTSTART;TZID=Europe/Berlin:20180910T153000
DTEND;TZID=Europe/Berlin:20180910T170000
SEQUENCE:0
END:VEVENT
END:VCALENDAR
