BEGIN:VCALENDAR
VERSION:2.0
PRODID:-//Sabre//Sabre VObject 4.5.8//EN
CALSCALE:GREGORIAN
BEGIN:VEVENT
UID:sabre-vobject-fd84e31f-0ac7-424f-96eb-3fd9459c9d8c
DTSTAMP:20260422T071223Z
SUMMARY:Functional Fitness
DESCRIPTION:Functional Fitness with Liz\n
X-ALT-DESC:FMTTYPE=text/html:<!DOCTYPE HTML PUBLIC "-//W3C//DTD HTML 3.2//E
 N"><HTML><p>Functional Fitness with Liz</p>\n</HTML>
CREATED;TZID=Europe/Berlin:20180928T154055
URL;VALUE=URI:https://ansbach.armymwr.com/calendar/event
DTSTART;TZID=Europe/Berlin:20181003T090000
DTEND;TZID=Europe/Berlin:20181003T100000
SEQUENCE:0
END:VEVENT
END:VCALENDAR
