BEGIN:VCALENDAR
VERSION:2.0
PRODID:-//Sabre//Sabre VObject 4.5.8//EN
CALSCALE:GREGORIAN
BEGIN:VEVENT
UID:sabre-vobject-6e2079dc-217f-4e98-bef0-1f6c21c85764
DTSTAMP:20260423T053305Z
SUMMARY:Germany by Rail  
DESCRIPTION:Train trip to Nuremburg.\n
X-ALT-DESC:FMTTYPE=text/html:<!DOCTYPE HTML PUBLIC "-//W3C//DTD HTML 3.2//E
 N"><HTML><p>Train trip to Nuremburg.</p>\n</HTML>
CREATED;TZID=Europe/Berlin:20180919T132710
URL;VALUE=URI:https://ansbach.armymwr.com/calendar/event
DTSTART;TZID=Europe/Berlin:20181011T093000
DTEND;TZID=Europe/Berlin:20181011T163000
SEQUENCE:0
END:VEVENT
END:VCALENDAR
