BEGIN:VCALENDAR
VERSION:2.0
PRODID:-//Sabre//Sabre VObject 4.5.8//EN
CALSCALE:GREGORIAN
BEGIN:VEVENT
UID:sabre-vobject-58d4a0d9-ae03-4900-b540-c5f0a7168483
DTSTAMP:20260420T103838Z
SUMMARY:Country Night
DESCRIPTION:Get a taste of home at Country Night!\n
X-ALT-DESC:FMTTYPE=text/html:<!DOCTYPE HTML PUBLIC "-//W3C//DTD HTML 3.2//E
 N"><HTML><p>Get a taste of home at Country Night!</p>\n</HTML>
CREATED;TZID=Europe/Berlin:20180920T135954
URL;VALUE=URI:https://ansbach.armymwr.com/calendar/event
DTSTART;TZID=Europe/Berlin:20181002T190000
DTEND;TZID=Europe/Berlin:20181002T220000
SEQUENCE:0
END:VEVENT
BEGIN:VEVENT
UID:sabre-vobject-efc06072-2d94-4ad7-b47d-f9c565c6529a
DTSTAMP:20260420T103838Z
SUMMARY:Country Night
DESCRIPTION:Get a taste of home at Country Night!\n
X-ALT-DESC:FMTTYPE=text/html:<!DOCTYPE HTML PUBLIC "-//W3C//DTD HTML 3.2//E
 N"><HTML><p>Get a taste of home at Country Night!</p>\n</HTML>
CREATED;TZID=Europe/Berlin:20180920T135954
URL;VALUE=URI:https://ansbach.armymwr.com/calendar/event
DTSTART;TZID=Europe/Berlin:20181016T190000
DTEND;TZID=Europe/Berlin:20181016T220000
SEQUENCE:1
END:VEVENT
BEGIN:VEVENT
UID:sabre-vobject-71cda33e-38bf-4e62-b4b1-f1e275960ced
DTSTAMP:20260420T103838Z
SUMMARY:Country Night
DESCRIPTION:Get a taste of home at Country Night!\n
X-ALT-DESC:FMTTYPE=text/html:<!DOCTYPE HTML PUBLIC "-//W3C//DTD HTML 3.2//E
 N"><HTML><p>Get a taste of home at Country Night!</p>\n</HTML>
CREATED;TZID=Europe/Berlin:20180920T135954
URL;VALUE=URI:https://ansbach.armymwr.com/calendar/event
DTSTART;TZID=Europe/Berlin:20181106T190000
DTEND;TZID=Europe/Berlin:20181106T220000
SEQUENCE:2
END:VEVENT
BEGIN:VEVENT
UID:sabre-vobject-ebfc9355-9959-4cb1-a3eb-bc137480e39e
DTSTAMP:20260420T103838Z
SUMMARY:Country Night
DESCRIPTION:Get a taste of home at Country Night!\n
X-ALT-DESC:FMTTYPE=text/html:<!DOCTYPE HTML PUBLIC "-//W3C//DTD HTML 3.2//E
 N"><HTML><p>Get a taste of home at Country Night!</p>\n</HTML>
CREATED;TZID=Europe/Berlin:20180920T135954
URL;VALUE=URI:https://ansbach.armymwr.com/calendar/event
DTSTART;TZID=Europe/Berlin:20181120T190000
DTEND;TZID=Europe/Berlin:20181120T220000
SEQUENCE:3
END:VEVENT
BEGIN:VEVENT
UID:sabre-vobject-91c92e53-5312-4667-b160-ce3527c51de0
DTSTAMP:20260420T103838Z
SUMMARY:Country Night
DESCRIPTION:Get a taste of home at Country Night!\n
X-ALT-DESC:FMTTYPE=text/html:<!DOCTYPE HTML PUBLIC "-//W3C//DTD HTML 3.2//E
 N"><HTML><p>Get a taste of home at Country Night!</p>\n</HTML>
CREATED;TZID=Europe/Berlin:20180920T135954
URL;VALUE=URI:https://ansbach.armymwr.com/calendar/event
DTSTART;TZID=Europe/Berlin:20181204T190000
DTEND;TZID=Europe/Berlin:20181204T220000
SEQUENCE:4
END:VEVENT
BEGIN:VEVENT
UID:sabre-vobject-c5013f7d-c720-4c7b-819b-518c4defcab5
DTSTAMP:20260420T103838Z
SUMMARY:Country Night
DESCRIPTION:Get a taste of home at Country Night!\n
X-ALT-DESC:FMTTYPE=text/html:<!DOCTYPE HTML PUBLIC "-//W3C//DTD HTML 3.2//E
 N"><HTML><p>Get a taste of home at Country Night!</p>\n</HTML>
CREATED;TZID=Europe/Berlin:20180920T135954
URL;VALUE=URI:https://ansbach.armymwr.com/calendar/event
DTSTART;TZID=Europe/Berlin:20181218T190000
DTEND;TZID=Europe/Berlin:20181218T220000
SEQUENCE:5
END:VEVENT
END:VCALENDAR
