BEGIN:VCALENDAR
VERSION:2.0
PRODID:-//Sabre//Sabre VObject 4.5.8//EN
CALSCALE:GREGORIAN
BEGIN:VEVENT
UID:sabre-vobject-249d81a8-b9a1-4150-b1a1-e2e4c2fea524
DTSTAMP:20260423T083313Z
SUMMARY:FRG Key Class
DESCRIPTION:
X-ALT-DESC:FMTTYPE=text/html:<!DOCTYPE HTML PUBLIC "-//W3C//DTD HTML 3.2//E
 N"><HTML></HTML>
CREATED;TZID=Europe/Berlin:20180924T122037
URL;VALUE=URI:https://ansbach.armymwr.com/calendar/event
DTSTART;TZID=Europe/Berlin:20181004T103000
DTEND;TZID=Europe/Berlin:20181004T123000
SEQUENCE:0
END:VEVENT
END:VCALENDAR
