BEGIN:VCALENDAR
VERSION:2.0
PRODID:-//Sabre//Sabre VObject 4.5.8//EN
CALSCALE:GREGORIAN
BEGIN:VEVENT
UID:sabre-vobject-52567de3-1ed6-4662-99c0-3877e44abb4c
DTSTAMP:20260422T072349Z
SUMMARY:2018 USAG Ansbach Basketball Sports Official's Clinic
DESCRIPTION:Are you interested in becoming a Basketball Official?\n
X-ALT-DESC:FMTTYPE=text/html:<!DOCTYPE HTML PUBLIC "-//W3C//DTD HTML 3.2//E
 N"><HTML><p>Are you interested in becoming a Basketball Official?</p>\n</H
 TML>
CREATED;TZID=Europe/Berlin:20180924T131718
URL;VALUE=URI:https://ansbach.armymwr.com/calendar/event
DTSTART;TZID=Europe/Berlin:20181025T180000
DTEND;TZID=Europe/Berlin:20181025T210000
SEQUENCE:0
END:VEVENT
BEGIN:VEVENT
UID:sabre-vobject-fb5dbd97-37a6-4dad-80c2-e84ba21fb7d5
DTSTAMP:20260422T072349Z
SUMMARY:2018 USAG Ansbach Basketball Sports Official's Clinic
DESCRIPTION:Are you interested in becoming a Basketball Official?\n
X-ALT-DESC:FMTTYPE=text/html:<!DOCTYPE HTML PUBLIC "-//W3C//DTD HTML 3.2//E
 N"><HTML><p>Are you interested in becoming a Basketball Official?</p>\n</H
 TML>
CREATED;TZID=Europe/Berlin:20180924T131718
URL;VALUE=URI:https://ansbach.armymwr.com/calendar/event
DTSTART;TZID=Europe/Berlin:20181026T180000
DTEND;TZID=Europe/Berlin:20181026T210000
SEQUENCE:1
END:VEVENT
BEGIN:VEVENT
UID:sabre-vobject-53fa9de1-4964-4760-9054-605271ad8403
DTSTAMP:20260422T072349Z
SUMMARY:2018 USAG Ansbach Basketball Sports Official's Clinic
DESCRIPTION:Are you interested in becoming a Basketball Official?\n
X-ALT-DESC:FMTTYPE=text/html:<!DOCTYPE HTML PUBLIC "-//W3C//DTD HTML 3.2//E
 N"><HTML><p>Are you interested in becoming a Basketball Official?</p>\n</H
 TML>
CREATED;TZID=Europe/Berlin:20180924T131718
URL;VALUE=URI:https://ansbach.armymwr.com/calendar/event
DTSTART;TZID=Europe/Berlin:20181030T180000
DTEND;TZID=Europe/Berlin:20181030T210000
SEQUENCE:2
END:VEVENT
BEGIN:VEVENT
UID:sabre-vobject-90f6846b-9635-4083-b1e2-1543706c1acb
DTSTAMP:20260422T072349Z
SUMMARY:2018 USAG Ansbach Basketball Sports Official's Clinic
DESCRIPTION:Are you interested in becoming a Basketball Official?\n
X-ALT-DESC:FMTTYPE=text/html:<!DOCTYPE HTML PUBLIC "-//W3C//DTD HTML 3.2//E
 N"><HTML><p>Are you interested in becoming a Basketball Official?</p>\n</H
 TML>
CREATED;TZID=Europe/Berlin:20180924T131718
URL;VALUE=URI:https://ansbach.armymwr.com/calendar/event
DTSTART;TZID=Europe/Berlin:20181027T120000
DTEND;TZID=Europe/Berlin:20181027T170000
SEQUENCE:3
END:VEVENT
END:VCALENDAR
