BEGIN:VCALENDAR
VERSION:2.0
PRODID:-//Sabre//Sabre VObject 4.5.8//EN
CALSCALE:GREGORIAN
BEGIN:VEVENT
UID:sabre-vobject-ebcd00fa-9125-4b30-8c87-08982f8909dd
DTSTAMP:20260422T084503Z
SUMMARY:Operation Punchline
DESCRIPTION:Get ready to laugh...\n
X-ALT-DESC:FMTTYPE=text/html:<!DOCTYPE HTML PUBLIC "-//W3C//DTD HTML 3.2//E
 N"><HTML><p>Get ready to laugh...</p>\n</HTML>
CREATED;TZID=Europe/Berlin:20181029T124642
URL;VALUE=URI:https://ansbach.armymwr.com/calendar/event
DTSTART;TZID=Europe/Berlin:20181114T190000
DTEND;TZID=Europe/Berlin:20181114T203000
SEQUENCE:0
END:VEVENT
END:VCALENDAR
