BEGIN:VCALENDAR
VERSION:2.0
PRODID:-//Sabre//Sabre VObject 4.5.8//EN
CALSCALE:GREGORIAN
BEGIN:VEVENT
UID:sabre-vobject-9a8831e8-2f97-49cf-afdf-ff53314097ae
DTSTAMP:20260423T065346Z
SUMMARY:Columbus Day - U.S. Federal Holiday
DESCRIPTION:
X-ALT-DESC:FMTTYPE=text/html:<!DOCTYPE HTML PUBLIC "-//W3C//DTD HTML 3.2//E
 N"><HTML></HTML>
CREATED;TZID=Europe/Berlin:20181002T101600
URL;VALUE=URI:https://ansbach.armymwr.com/calendar/event
DTSTART;TZID=Europe/Berlin:20181008T000000
DTEND;TZID=Europe/Berlin:20181008T235959
SEQUENCE:0
END:VEVENT
END:VCALENDAR
