BEGIN:VCALENDAR
VERSION:2.0
PRODID:-//Sabre//Sabre VObject 4.5.8//EN
CALSCALE:GREGORIAN
BEGIN:VEVENT
UID:sabre-vobject-b0369b81-2aa4-46fc-b75d-75c7eedfcdc4
DTSTAMP:20260422T053931Z
SUMMARY:Veteran's Day (Observed) - U.S. Federal Holiday
DESCRIPTION:
X-ALT-DESC:FMTTYPE=text/html:<!DOCTYPE HTML PUBLIC "-//W3C//DTD HTML 3.2//E
 N"><HTML></HTML>
CREATED;TZID=Europe/Berlin:20181002T102054
URL;VALUE=URI:https://ansbach.armymwr.com/calendar/event
DTSTART;TZID=Europe/Berlin:20181112T000000
DTEND;TZID=Europe/Berlin:20181112T235959
SEQUENCE:0
END:VEVENT
END:VCALENDAR
