BEGIN:VCALENDAR
VERSION:2.0
PRODID:-//Sabre//Sabre VObject 4.5.8//EN
CALSCALE:GREGORIAN
BEGIN:VEVENT
UID:sabre-vobject-8a762fd6-e399-48cc-8831-750891c03332
DTSTAMP:20260421T010146Z
SUMMARY:Christmas Day - U.S. Federal Holiday
DESCRIPTION:
X-ALT-DESC:FMTTYPE=text/html:<!DOCTYPE HTML PUBLIC "-//W3C//DTD HTML 3.2//E
 N"><HTML></HTML>
CREATED;TZID=Europe/Berlin:20181002T102221
URL;VALUE=URI:https://ansbach.armymwr.com/calendar/event
DTSTART;TZID=Europe/Berlin:20181225T000000
DTEND;TZID=Europe/Berlin:20181225T235959
SEQUENCE:0
END:VEVENT
END:VCALENDAR
