BEGIN:VCALENDAR
VERSION:2.0
PRODID:-//Sabre//Sabre VObject 4.5.8//EN
CALSCALE:GREGORIAN
BEGIN:VEVENT
UID:sabre-vobject-f891fc50-107a-4397-a21c-16ad46ac6e0b
DTSTAMP:20260422T072500Z
SUMMARY:Pumpkin Painting with Friends
DESCRIPTION:A great fall activity for all ages...\n
X-ALT-DESC:FMTTYPE=text/html:<!DOCTYPE HTML PUBLIC "-//W3C//DTD HTML 3.2//E
 N"><HTML><p>A great fall activity for all ages...</p>\n</HTML>
CREATED;TZID=Europe/Berlin:20181003T094635
URL;VALUE=URI:https://ansbach.armymwr.com/calendar/event
DTSTART;TZID=Europe/Berlin:20181030T160000
DTEND;TZID=Europe/Berlin:20181030T170000
SEQUENCE:0
END:VEVENT
END:VCALENDAR
