BEGIN:VCALENDAR
VERSION:2.0
PRODID:-//Sabre//Sabre VObject 4.5.8//EN
CALSCALE:GREGORIAN
BEGIN:VEVENT
UID:sabre-vobject-a3adc839-23f0-4a42-94da-9d545cc374ae
DTSTAMP:20260422T085640Z
SUMMARY:Stress Management     
DESCRIPTION:Stress Management Class\n
X-ALT-DESC:FMTTYPE=text/html:<!DOCTYPE HTML PUBLIC "-//W3C//DTD HTML 3.2//E
 N"><HTML><p>Stress Management Class</p>\n</HTML>
CREATED;TZID=Europe/Berlin:20181011T151127
URL;VALUE=URI:https://ansbach.armymwr.com/calendar/event
DTSTART;TZID=Europe/Berlin:20181102T130000
DTEND;TZID=Europe/Berlin:20181102T143000
SEQUENCE:0
END:VEVENT
END:VCALENDAR
