BEGIN:VCALENDAR
VERSION:2.0
PRODID:-//Sabre//Sabre VObject 4.5.8//EN
CALSCALE:GREGORIAN
BEGIN:VEVENT
UID:sabre-vobject-b6791a17-e671-4acc-a5cb-fcf83d8cd166
DTSTAMP:20260421T113028Z
SUMMARY:Breastfeeding Support Group   
DESCRIPTION:Breastfeeding support.\n
X-ALT-DESC:FMTTYPE=text/html:<!DOCTYPE HTML PUBLIC "-//W3C//DTD HTML 3.2//E
 N"><HTML><p>Breastfeeding support.</p>\n</HTML>
CREATED;TZID=Europe/Berlin:20181011T153424
URL;VALUE=URI:https://ansbach.armymwr.com/calendar/event
DTSTART;TZID=Europe/Berlin:20181107T103000
DTEND;TZID=Europe/Berlin:20181107T120000
SEQUENCE:0
END:VEVENT
END:VCALENDAR
