BEGIN:VCALENDAR
VERSION:2.0
PRODID:-//Sabre//Sabre VObject 4.5.8//EN
CALSCALE:GREGORIAN
BEGIN:VEVENT
UID:sabre-vobject-ef94a77d-40f5-411d-8bbd-74a3fe5b7b75
DTSTAMP:20260420T045656Z
SUMMARY:Host Nation Orientation-Two Day Seminar        
DESCRIPTION:for a successful tour of duty in Germany . . .\n
X-ALT-DESC:FMTTYPE=text/html:<!DOCTYPE HTML PUBLIC "-//W3C//DTD HTML 3.2//E
 N"><HTML><p><span calibri="" style="font-size:11.0pt\;font-family:">for a 
 successful tour of duty in Germany</span> . . .</p>\n</HTML>
CREATED;TZID=Europe/Berlin:20181011T145614
URL;VALUE=URI:https://ansbach.armymwr.com/calendar/event
DTSTART;TZID=Europe/Berlin:20181213T093000
DTEND;TZID=Europe/Berlin:20181213T150000
SEQUENCE:0
END:VEVENT
END:VCALENDAR
