BEGIN:VCALENDAR
VERSION:2.0
PRODID:-//Sabre//Sabre VObject 4.5.8//EN
CALSCALE:GREGORIAN
BEGIN:VEVENT
UID:sabre-vobject-4da400c8-a141-4b99-8829-70f3383ddf5b
DTSTAMP:20260422T070601Z
SUMMARY:Seussical KIDS Performance
DESCRIPTION:Terrace Playhouse &amp\; Ansbach Child and Youth Services prese
 nt Seussical KIDS...\n
X-ALT-DESC:FMTTYPE=text/html:<!DOCTYPE HTML PUBLIC "-//W3C//DTD HTML 3.2//E
 N"><HTML><p>Terrace Playhouse &amp\; Ansbach Child and Youth Services pres
 ent Seussical KIDS...</p>\n</HTML>
CREATED;TZID=Europe/Berlin:20181017T091328
URL;VALUE=URI:https://ansbach.armymwr.com/calendar/event
DTSTART;TZID=Europe/Berlin:20181101T183000
DTEND;TZID=Europe/Berlin:20181101T200000
SEQUENCE:0
END:VEVENT
END:VCALENDAR
